BEGIN:VCALENDAR
VERSION:2.0
PRODID:spatie/icalendar-generator
DESCRIPTION:Evenementen van HiroGrading
X-WR-CALDESC:Evenementen van HiroGrading
REFRESH-INTERVAL;VALUE=DURATION:PT1440M
X-PUBLISHED-TTL:PT1440M
BEGIN:VTIMEZONE
TZID:Etc/GMT-2
BEGIN:STANDARD
DTSTART:20260310T090000Z
TZOFFSETFROM:+0200
TZOFFSETTO:+0200
END:STANDARD
END:VTIMEZONE
BEGIN:VTIMEZONE
TZID:UTC
BEGIN:STANDARD
DTSTART:20250728T083707Z
TZOFFSETFROM:+0000
TZOFFSETTO:+0000
END:STANDARD
END:VTIMEZONE
BEGIN:VEVENT
UID:22-21
DTSTAMP:20260424T083707Z
SUMMARY:TCGeek Fest Avond
LOCATION:Waregem\, Expo\, BE Waregem Expo Zuiderlaan 26 Waregem  8790
ORGANIZER;CN=HiroGrading:MAILTO:info@bulkseekers.com
DTSTART;TZID=Etc/GMT-2:20261205T090000
DTEND;TZID=Etc/GMT-2:20261205T170000
X-ALT-DESC;FMTTYPE=TEXT/HTML:
CATEGORIES:HiroGrading
URL;VALUE=URI:https://www.hirograding.com/mc-events/tcgeek-fest-avond/
METHOD:PUBLISH
END:VEVENT
END:VCALENDAR