BEGIN:VCALENDAR
VERSION:2.0
PRODID:spatie/icalendar-generator
DESCRIPTION:Evenementen van HiroGrading
X-WR-CALDESC:Evenementen van HiroGrading
REFRESH-INTERVAL;VALUE=DURATION:PT1440M
X-PUBLISHED-TTL:PT1440M
BEGIN:VTIMEZONE
TZID:Etc/GMT-2
BEGIN:STANDARD
DTSTART:20250702T100000Z
TZOFFSETFROM:+0200
TZOFFSETTO:+0200
END:STANDARD
END:VTIMEZONE
BEGIN:VTIMEZONE
TZID:UTC
BEGIN:STANDARD
DTSTART:20250728T031100Z
TZOFFSETFROM:+0000
TZOFFSETTO:+0000
END:STANDARD
END:VTIMEZONE
BEGIN:VEVENT
UID:26-24
DTSTAMP:20260424T031100Z
SUMMARY:FairyTradingCards Ruilbeurs
LOCATION:Feestzaal De Molen\, Evergem\, BE Feestzaal De Molen Goeiingen 12 
 Evergem  9940
ORGANIZER;CN=HiroGrading:MAILTO:info@bulkseekers.com
DTSTART;TZID=Etc/GMT-2:20260329T100000
DTEND;TZID=Etc/GMT-2:20260329T160000
X-ALT-DESC;FMTTYPE=TEXT/HTML:
CATEGORIES:HiroGrading
URL;VALUE=URI:https://www.hirograding.com/mc-events/fairytradingcards-ruilb
 eurs/
METHOD:PUBLISH
END:VEVENT
END:VCALENDAR