BEGIN:VCALENDAR
VERSION:2.0
PRODID:spatie/icalendar-generator
DESCRIPTION:Evenementen van HiroGrading
X-WR-CALDESC:Evenementen van HiroGrading
REFRESH-INTERVAL;VALUE=DURATION:PT1440M
X-PUBLISHED-TTL:PT1440M
BEGIN:VTIMEZONE
TZID:Etc/GMT-2
BEGIN:STANDARD
DTSTART:20250827T100000Z
TZOFFSETFROM:+0200
TZOFFSETTO:+0200
END:STANDARD
END:VTIMEZONE
BEGIN:VTIMEZONE
TZID:UTC
BEGIN:STANDARD
DTSTART:20250727T181006Z
TZOFFSETFROM:+0000
TZOFFSETTO:+0000
END:STANDARD
END:VTIMEZONE
BEGIN:VEVENT
UID:4-3
DTSTAMP:20260423T181006Z
SUMMARY:CardMania WestHoek
LOCATION:Zaal Fenix\, Ieper\, BE Leopold III-Laan 16  Ieper  8900
ORGANIZER;CN=HiroGrading:MAILTO:info@bulkseekers.com
DTSTART;TZID=Etc/GMT-2:20260524T100000
DTEND;TZID=Etc/GMT-2:20260524T160000
X-ALT-DESC;FMTTYPE=TEXT/HTML:Exclusieve 10+1 Grading Actie bij inlevering o
 p deze beurs
CATEGORIES:HiroGrading,  Maki Cards
URL;VALUE=URI:https://www.hirograding.com/mc-events/cardmania-westhoek/
METHOD:PUBLISH
END:VEVENT
END:VCALENDAR