BEGIN:VCALENDAR
VERSION:2.0
PRODID:spatie/icalendar-generator
DESCRIPTION:Evenementen van HiroGrading
X-WR-CALDESC:Evenementen van HiroGrading
REFRESH-INTERVAL;VALUE=DURATION:PT1440M
X-PUBLISHED-TTL:PT1440M
BEGIN:VTIMEZONE
TZID:Etc/GMT-2
BEGIN:STANDARD
DTSTART:20250701T100000Z
TZOFFSETFROM:+0200
TZOFFSETTO:+0200
END:STANDARD
END:VTIMEZONE
BEGIN:VTIMEZONE
TZID:UTC
BEGIN:STANDARD
DTSTART:20250728T013824Z
TZOFFSETFROM:+0000
TZOFFSETTO:+0000
END:STANDARD
END:VTIMEZONE
BEGIN:VEVENT
UID:50-44
DTSTAMP:20260424T013824Z
SUMMARY:CollectorsGarden
LOCATION:Jaarbeurs\, Utrecht\, NL Jaarsbeurs Utrecht Jaarbeursplein 6 Utrec
 ht  3521 AL
ORGANIZER;CN=HiroGrading:MAILTO:info@bulkseekers.com
DTSTART;TZID=Etc/GMT-2:20260328T100000
DTEND;TZID=Etc/GMT-2:20260329T160000
X-ALT-DESC;FMTTYPE=TEXT/HTML:
CATEGORIES:NexoCards,  FlevoCards,  ParadiseCards
URL;VALUE=URI:https://www.hirograding.com/mc-events/collectorsgarden/
METHOD:PUBLISH
END:VEVENT
END:VCALENDAR