BEGIN:VCALENDAR
VERSION:2.0
PRODID:spatie/icalendar-generator
DESCRIPTION:Evenementen van HiroGrading
X-WR-CALDESC:Evenementen van HiroGrading
REFRESH-INTERVAL;VALUE=DURATION:PT1440M
X-PUBLISHED-TTL:PT1440M
BEGIN:VTIMEZONE
TZID:Etc/GMT-2
BEGIN:STANDARD
DTSTART:20250806T100000Z
TZOFFSETFROM:+0200
TZOFFSETTO:+0200
END:STANDARD
END:VTIMEZONE
BEGIN:VTIMEZONE
TZID:UTC
BEGIN:STANDARD
DTSTART:20250727T233647Z
TZOFFSETFROM:+0000
TZOFFSETTO:+0000
END:STANDARD
END:VTIMEZONE
BEGIN:VEVENT
UID:7-6
DTSTAMP:20260423T233647Z
SUMMARY:CardFestival Roeselare
LOCATION:Expo\, Roeselare\, BE Diksmuidsesteenweg 400  Roeselare  8800
ORGANIZER;CN=HiroGrading:MAILTO:info@bulkseekers.com
DTSTART;TZID=Etc/GMT-2:20260503T100000
DTEND;TZID=Etc/GMT-2:20260503T170000
X-ALT-DESC;FMTTYPE=TEXT/HTML:
CATEGORIES:HiroGrading,  Maki Cards
URL;VALUE=URI:https://www.hirograding.com/mc-events/cardfestival-roeselare/
METHOD:PUBLISH
END:VEVENT
END:VCALENDAR