BEGIN:VCALENDAR
VERSION:2.0
PRODID:spatie/icalendar-generator
DESCRIPTION:Evenementen van HiroGrading
X-WR-CALDESC:Evenementen van HiroGrading
REFRESH-INTERVAL;VALUE=DURATION:PT1440M
X-PUBLISHED-TTL:PT1440M
BEGIN:VTIMEZONE
TZID:Etc/GMT-2
BEGIN:STANDARD
DTSTART:20250715T110000Z
TZOFFSETFROM:+0200
TZOFFSETTO:+0200
END:STANDARD
END:VTIMEZONE
BEGIN:VTIMEZONE
TZID:UTC
BEGIN:STANDARD
DTSTART:20250728T051821Z
TZOFFSETFROM:+0000
TZOFFSETTO:+0000
END:STANDARD
END:VTIMEZONE
BEGIN:VEVENT
UID:70-62
DTSTAMP:20260424T051821Z
SUMMARY:Cardview XL beurs Purmerend
LOCATION:Sporthal De Spurd\, Purmerend NL Van IJsendijkstraat 365  Purmeren
 d   1442LB
ORGANIZER;CN=Jens Brackeva:MAILTO:jensbrackeva@gmail.com
DTSTART;TZID=Etc/GMT-2:20260411T110000
DTEND;TZID=Etc/GMT-2:20260411T160000
X-ALT-DESC;FMTTYPE=TEXT/HTML:
CATEGORIES:NexoCards,  FlevoCards
URL;VALUE=URI:https://www.hirograding.com/mc-events/cardview-xl-beurs-purme
 rend/
METHOD:PUBLISH
END:VEVENT
END:VCALENDAR