BEGIN:VCALENDAR
VERSION:2.0
PRODID:spatie/icalendar-generator
DESCRIPTION:Evenementen van HiroGrading
X-WR-CALDESC:Evenementen van HiroGrading
REFRESH-INTERVAL;VALUE=DURATION:PT1440M
X-PUBLISHED-TTL:PT1440M
BEGIN:VTIMEZONE
TZID:Etc/GMT-2
BEGIN:STANDARD
DTSTART:20250722T110000Z
TZOFFSETFROM:+0200
TZOFFSETTO:+0200
END:STANDARD
END:VTIMEZONE
BEGIN:VTIMEZONE
TZID:UTC
BEGIN:STANDARD
DTSTART:20250728T033158Z
TZOFFSETFROM:+0000
TZOFFSETTO:+0000
END:STANDARD
END:VTIMEZONE
BEGIN:VEVENT
UID:71-63
DTSTAMP:20260424T033158Z
SUMMARY:Collectors City Zuid Holland
LOCATION:Sporthal Leidschenveen\, Den Haag NL Vaz Diasdreef 20   Den Haag  
 2492JL
ORGANIZER;CN=Jens Brackeva:MAILTO:jensbrackeva@gmail.com
DTSTART;TZID=Etc/GMT-2:20260418T110000
DTEND;TZID=Etc/GMT-2:20260418T170000
X-ALT-DESC;FMTTYPE=TEXT/HTML:
CATEGORIES:NexoCards
URL;VALUE=URI:https://www.hirograding.com/mc-events/collectors-city-zuid-ho
 lland/
METHOD:PUBLISH
END:VEVENT
END:VCALENDAR