BEGIN:VCALENDAR
VERSION:2.0
PRODID:spatie/icalendar-generator
DESCRIPTION:Evenementen van HiroGrading
X-WR-CALDESC:Evenementen van HiroGrading
REFRESH-INTERVAL;VALUE=DURATION:PT1440M
X-PUBLISHED-TTL:PT1440M
BEGIN:VTIMEZONE
TZID:Etc/GMT-2
BEGIN:STANDARD
DTSTART:20250805T100000Z
TZOFFSETFROM:+0200
TZOFFSETTO:+0200
END:STANDARD
END:VTIMEZONE
BEGIN:VTIMEZONE
TZID:UTC
BEGIN:STANDARD
DTSTART:20250728T001459Z
TZOFFSETFROM:+0000
TZOFFSETTO:+0000
END:STANDARD
END:VTIMEZONE
BEGIN:VEVENT
UID:79-70
DTSTAMP:20260424T001459Z
SUMMARY:TCG Paradise
LOCATION:Jaarbeurs\, Utrecht\, NL Jaarsbeurs Utrecht Jaarbeursplein 6 Utrec
 ht  3521 AL
ORGANIZER;CN=Jens Brackeva:MAILTO:jensbrackeva@gmail.com
DTSTART;TZID=Etc/GMT-2:20260502T100000
DTEND;TZID=Etc/GMT-2:20260503T110000
X-ALT-DESC;FMTTYPE=TEXT/HTML:
CATEGORIES:FlevoCards,  TCG-Outlet
URL;VALUE=URI:https://www.hirograding.com/mc-events/tcg-paradise/
METHOD:PUBLISH
END:VEVENT
END:VCALENDAR