BEGIN:VCALENDAR
VERSION:2.0
PRODID:spatie/icalendar-generator
DESCRIPTION:Evenementen van HiroGrading
X-WR-CALDESC:Evenementen van HiroGrading
REFRESH-INTERVAL;VALUE=DURATION:PT1440M
X-PUBLISHED-TTL:PT1440M
BEGIN:VTIMEZONE
TZID:Etc/GMT-2
BEGIN:STANDARD
DTSTART:20250826T100000Z
TZOFFSETFROM:+0200
TZOFFSETTO:+0200
END:STANDARD
END:VTIMEZONE
BEGIN:VTIMEZONE
TZID:UTC
BEGIN:STANDARD
DTSTART:20250727T200205Z
TZOFFSETFROM:+0000
TZOFFSETTO:+0000
END:STANDARD
END:VTIMEZONE
BEGIN:VEVENT
UID:82-73
DTSTAMP:20260423T200205Z
SUMMARY:Global Cards Show\, Nijkerk\, NL
LOCATION:Hart van Holland\, Nijkerk\, NL Hart van Holland Berencamperweg 12
  3861MC  Nijkerk Berencamperweg 12 Nijkerk  3861MC
ORGANIZER;CN=Jens Brackeva:MAILTO:jensbrackeva@gmail.com
DTSTART;TZID=Etc/GMT-2:20260523T100000
DTEND;TZID=Etc/GMT-2:20260524T160000
X-ALT-DESC;FMTTYPE=TEXT/HTML:
CATEGORIES:FlevoCards,  ParadiseCards
URL;VALUE=URI:https://www.hirograding.com/mc-events/global-cards-show-nijke
 rk-nl/
METHOD:PUBLISH
END:VEVENT
END:VCALENDAR