BEGIN:VCALENDAR
VERSION:2.0
PRODID:spatie/icalendar-generator
DESCRIPTION:Evenementen van HiroGrading
X-WR-CALDESC:Evenementen van HiroGrading
REFRESH-INTERVAL;VALUE=DURATION:PT1440M
X-PUBLISHED-TTL:PT1440M
BEGIN:VTIMEZONE
TZID:Etc/GMT-2
BEGIN:STANDARD
DTSTART:20250902T100000Z
TZOFFSETFROM:+0200
TZOFFSETTO:+0200
END:STANDARD
END:VTIMEZONE
BEGIN:VTIMEZONE
TZID:UTC
BEGIN:STANDARD
DTSTART:20250727T201114Z
TZOFFSETFROM:+0000
TZOFFSETTO:+0000
END:STANDARD
END:VTIMEZONE
BEGIN:VEVENT
UID:85-75
DTSTAMP:20260423T201114Z
SUMMARY:Collect &amp;amp\; Fun Day Antwerpen
LOCATION:Antwerp Expo\, Antwerpen\, BE
ORGANIZER;CN=Jens Brackeva:MAILTO:jensbrackeva@gmail.com
DTSTART;TZID=Etc/GMT-2:20260530T100000
DTEND;TZID=Etc/GMT-2:20260531T160000
X-ALT-DESC;FMTTYPE=TEXT/HTML:
CATEGORIES:FlevoCards
URL;VALUE=URI:https://www.hirograding.com/mc-events/collect-fun-day-antwerp
 en/
METHOD:PUBLISH
END:VEVENT
END:VCALENDAR