BEGIN:VCALENDAR
VERSION:2.0
PRODID:spatie/icalendar-generator
DESCRIPTION:Evenementen van HiroGrading
X-WR-CALDESC:Evenementen van HiroGrading
REFRESH-INTERVAL;VALUE=DURATION:PT1440M
X-PUBLISHED-TTL:PT1440M
BEGIN:VTIMEZONE
TZID:Etc/GMT-2
BEGIN:STANDARD
DTSTART:20250709T100000Z
TZOFFSETFROM:+0200
TZOFFSETTO:+0200
END:STANDARD
END:VTIMEZONE
BEGIN:VTIMEZONE
TZID:UTC
BEGIN:STANDARD
DTSTART:20250728T064043Z
TZOFFSETFROM:+0000
TZOFFSETTO:+0000
END:STANDARD
END:VTIMEZONE
BEGIN:VEVENT
UID:24-23
DTSTAMP:20260424T064043Z
SUMMARY:CardFest Maldegem
LOCATION:Eventhal ME\, Maldegem\, BE Eventhal ME Industrielaan 6 Maldegem  
 990
ORGANIZER;CN=HiroGrading:MAILTO:info@bulkseekers.com
DTSTART;TZID=Etc/GMT-2:20260405T100000
DTEND;TZID=Etc/GMT-2:20260405T170000
X-ALT-DESC;FMTTYPE=TEXT/HTML:
CATEGORIES:HiroGrading,  Maki Cards
URL;VALUE=URI:https://www.hirograding.com/mc-events/cardfest-maldegem/
METHOD:PUBLISH
END:VEVENT
END:VCALENDAR