BEGIN:VCALENDAR
VERSION:2.0
PRODID:spatie/icalendar-generator
DESCRIPTION:Evenementen van HiroGrading
X-WR-CALDESC:Evenementen van HiroGrading
REFRESH-INTERVAL;VALUE=DURATION:PT1440M
X-PUBLISHED-TTL:PT1440M
BEGIN:VTIMEZONE
TZID:Etc/GMT-2
BEGIN:STANDARD
DTSTART:20250715T000000Z
TZOFFSETFROM:+0200
TZOFFSETTO:+0200
END:STANDARD
END:VTIMEZONE
BEGIN:VTIMEZONE
TZID:UTC
BEGIN:STANDARD
DTSTART:20250728T053643Z
TZOFFSETFROM:+0000
TZOFFSETTO:+0000
END:STANDARD
END:VTIMEZONE
BEGIN:VEVENT
UID:27-25
DTSTAMP:20260424T053643Z
SUMMARY:FACTS Spring 2026
LOCATION:Flanders Expo\, Gent\, BE Flanders Expo Maaltekouter 1 Gent  9051
ORGANIZER;CN=HiroGrading:MAILTO:info@bulkseekers.com
DTSTART;TZID=Etc/GMT-2;VALUE=DATE:20260411
DTEND;TZID=Etc/GMT-2;VALUE=DATE:20260413
X-ALT-DESC;FMTTYPE=TEXT/HTML:
CATEGORIES:HiroGrading
URL;VALUE=URI:https://www.hirograding.com/mc-events/facts-spring-2026/
METHOD:PUBLISH
END:VEVENT
END:VCALENDAR