BEGIN:VCALENDAR
VERSION:2.0
PRODID:spatie/icalendar-generator
DESCRIPTION:Evenementen van HiroGrading
X-WR-CALDESC:Evenementen van HiroGrading
REFRESH-INTERVAL;VALUE=DURATION:PT1440M
X-PUBLISHED-TTL:PT1440M
BEGIN:VTIMEZONE
TZID:Etc/GMT-2
BEGIN:STANDARD
DTSTART:20250708T100000Z
TZOFFSETFROM:+0200
TZOFFSETTO:+0200
END:STANDARD
END:VTIMEZONE
BEGIN:VTIMEZONE
TZID:UTC
BEGIN:STANDARD
DTSTART:20250728T031905Z
TZOFFSETFROM:+0000
TZOFFSETTO:+0000
END:STANDARD
END:VTIMEZONE
BEGIN:VEVENT
UID:48-42
DTSTAMP:20260424T031905Z
SUMMARY:CollectableWorld Gorinchem
LOCATION:Evenementenhal Gorinchem\, Gorinchem\, NL Evenementenhal Gorinchem
  Franklinweg 2 Gorinchem  4207HZ
ORGANIZER;CN=HiroGrading:MAILTO:info@bulkseekers.com
DTSTART;TZID=Etc/GMT-2:20260404T100000
DTEND;TZID=Etc/GMT-2:20260405T160000
X-ALT-DESC;FMTTYPE=TEXT/HTML:
CATEGORIES:FlevoCards,  NexoCards,  TCGShop.eu
URL;VALUE=URI:https://www.hirograding.com/mc-events/collectableworld-gorinc
 hem/
METHOD:PUBLISH
END:VEVENT
END:VCALENDAR