BEGIN:VCALENDAR
VERSION:2.0
PRODID:spatie/icalendar-generator
DESCRIPTION:Evenementen van HiroGrading
X-WR-CALDESC:Evenementen van HiroGrading
REFRESH-INTERVAL;VALUE=DURATION:PT1440M
X-PUBLISHED-TTL:PT1440M
BEGIN:VTIMEZONE
TZID:Etc/GMT-2
BEGIN:STANDARD
DTSTART:20260401T100000Z
TZOFFSETFROM:+0200
TZOFFSETTO:+0200
END:STANDARD
END:VTIMEZONE
BEGIN:VTIMEZONE
TZID:UTC
BEGIN:STANDARD
DTSTART:20250728T051739Z
TZOFFSETFROM:+0000
TZOFFSETTO:+0000
END:STANDARD
END:VTIMEZONE
BEGIN:VEVENT
UID:51-45
DTSTAMP:20260424T051739Z
SUMMARY:CardView Voorschoten XL
LOCATION:Vliethorst Sporthal\, Voorschoten\, NL Vliethorst Sporthal B. van 
 der haarplein 9 Voorschoten  2251CT
ORGANIZER;CN=HiroGrading:MAILTO:info@bulkseekers.com
DTSTART;TZID=Etc/GMT-2:20261227T100000
DTEND;TZID=Etc/GMT-2:20261227T160000
X-ALT-DESC;FMTTYPE=TEXT/HTML:
CATEGORIES:FlevoCards
URL;VALUE=URI:https://www.hirograding.com/mc-events/cardview-voorschoten-xl
 /
METHOD:PUBLISH
END:VEVENT
END:VCALENDAR