BEGIN:VCALENDAR
VERSION:2.0
PRODID:spatie/icalendar-generator
DESCRIPTION:Evenementen van HiroGrading
X-WR-CALDESC:Evenementen van HiroGrading
REFRESH-INTERVAL;VALUE=DURATION:PT1440M
X-PUBLISHED-TTL:PT1440M
BEGIN:VTIMEZONE
TZID:Etc/GMT-2
BEGIN:STANDARD
DTSTART:20250624T120000Z
TZOFFSETFROM:+0200
TZOFFSETTO:+0200
END:STANDARD
END:VTIMEZONE
BEGIN:VTIMEZONE
TZID:UTC
BEGIN:STANDARD
DTSTART:20250728T062752Z
TZOFFSETFROM:+0000
TZOFFSETTO:+0000
END:STANDARD
END:VTIMEZONE
BEGIN:VEVENT
UID:65-57
DTSTAMP:20260424T062752Z
SUMMARY:Flevocards Ruilmiddag
LOCATION:
ORGANIZER;CN=Jens Brackeva:MAILTO:jensbrackeva@gmail.com
DTSTART;TZID=Etc/GMT-2:20260321T120000
DTEND;TZID=Etc/GMT-2:20260321T170000
X-ALT-DESC;FMTTYPE=TEXT/HTML:
CATEGORIES:FlevoCards
URL;VALUE=URI:https://www.hirograding.com/mc-events/flevocards-ruilmiddag-3
 /
METHOD:PUBLISH
END:VEVENT
END:VCALENDAR