BEGIN:VCALENDAR
VERSION:2.0
PRODID:spatie/icalendar-generator
DESCRIPTION:Evenementen van HiroGrading
X-WR-CALDESC:Evenementen van HiroGrading
REFRESH-INTERVAL;VALUE=DURATION:PT1440M
X-PUBLISHED-TTL:PT1440M
BEGIN:VTIMEZONE
TZID:Etc/GMT-2
BEGIN:STANDARD
DTSTART:20250729T100000Z
TZOFFSETFROM:+0200
TZOFFSETTO:+0200
END:STANDARD
END:VTIMEZONE
BEGIN:VTIMEZONE
TZID:UTC
BEGIN:STANDARD
DTSTART:20250728T034219Z
TZOFFSETFROM:+0000
TZOFFSETTO:+0000
END:STANDARD
END:VTIMEZONE
BEGIN:VEVENT
UID:73-65
DTSTAMP:20260424T034219Z
SUMMARY:Sweetlake Con 2.0
LOCATION:SilverDome\, Zoetermeer NL Van der Hagenstraat 20   Zoetermeer  27
 22NT
ORGANIZER;CN=Jens Brackeva:MAILTO:jensbrackeva@gmail.com
DTSTART;TZID=Etc/GMT-2:20260425T100000
DTEND;TZID=Etc/GMT-2:20260426T160000
X-ALT-DESC;FMTTYPE=TEXT/HTML:
CATEGORIES:NexoCards,  FlevoCards,  ParadiseCards
URL;VALUE=URI:https://www.hirograding.com/mc-events/sweetlake-con-2-0/
METHOD:PUBLISH
END:VEVENT
END:VCALENDAR