BEGIN:VCALENDAR
VERSION:2.0
PRODID:spatie/icalendar-generator
DESCRIPTION:Evenementen van HiroGrading
X-WR-CALDESC:Evenementen van HiroGrading
REFRESH-INTERVAL;VALUE=DURATION:PT1440M
X-PUBLISHED-TTL:PT1440M
BEGIN:VTIMEZONE
TZID:Etc/GMT-2
BEGIN:STANDARD
DTSTART:20250909T090000Z
TZOFFSETFROM:+0200
TZOFFSETTO:+0200
END:STANDARD
END:VTIMEZONE
BEGIN:VTIMEZONE
TZID:UTC
BEGIN:STANDARD
DTSTART:20250728T065714Z
TZOFFSETFROM:+0000
TZOFFSETTO:+0000
END:STANDARD
END:VTIMEZONE
BEGIN:VEVENT
UID:74-66
DTSTAMP:20260424T065714Z
SUMMARY:Sports Cards Mania
LOCATION:De Uithof\, Den Haag NL   Den Haag
ORGANIZER;CN=Jens Brackeva:MAILTO:jensbrackeva@gmail.com
DTSTART;TZID=Etc/GMT-2:20260606T090000
DTEND;TZID=Etc/GMT-2:20260606T160000
X-ALT-DESC;FMTTYPE=TEXT/HTML:
CATEGORIES:NexoCards
URL;VALUE=URI:https://www.hirograding.com/mc-events/sports-cards-mania/
METHOD:PUBLISH
END:VEVENT
END:VCALENDAR