BEGIN:VCALENDAR
VERSION:2.0
PRODID:spatie/icalendar-generator
DESCRIPTION:Evenementen van HiroGrading
X-WR-CALDESC:Evenementen van HiroGrading
REFRESH-INTERVAL;VALUE=DURATION:PT1440M
X-PUBLISHED-TTL:PT1440M
BEGIN:VTIMEZONE
TZID:Etc/GMT-2
BEGIN:STANDARD
DTSTART:20250916T100000Z
TZOFFSETFROM:+0200
TZOFFSETTO:+0200
END:STANDARD
END:VTIMEZONE
BEGIN:VTIMEZONE
TZID:UTC
BEGIN:STANDARD
DTSTART:20250728T020233Z
TZOFFSETFROM:+0000
TZOFFSETTO:+0000
END:STANDARD
END:VTIMEZONE
BEGIN:VEVENT
UID:86-72
DTSTAMP:20260424T020233Z
SUMMARY:CardView\, Hoorn\, NL
LOCATION:Sportcentrum Hoorn\, Hoorn\, NL
ORGANIZER;CN=Jens Brackeva:MAILTO:jensbrackeva@gmail.com
DTSTART;TZID=Etc/GMT-2:20260613T100000
DTEND;TZID=Etc/GMT-2:20260613T160000
X-ALT-DESC;FMTTYPE=TEXT/HTML:
CATEGORIES:FlevoCards
URL;VALUE=URI:https://www.hirograding.com/mc-events/cardview-hoorn-nl/
METHOD:PUBLISH
END:VEVENT
END:VCALENDAR